Package: esATAC Version: 1.28.0 Command: rm -rf esATAC.buildbin-libdir && mkdir esATAC.buildbin-libdir && F:\biocbuild\bbs-3.20-bioc\R\bin\R.exe CMD INSTALL --build --library=esATAC.buildbin-libdir esATAC_1.28.0.tar.gz StartedAt: 2025-02-18 08:05:18 -0500 (Tue, 18 Feb 2025) EndedAt: 2025-02-18 08:08:56 -0500 (Tue, 18 Feb 2025) EllapsedTime: 217.9 seconds RetCode: 0 Status: OK PackageFile: esATAC_1.28.0.zip PackageFileSize: 8.524 <A href="http://en.wikipedia.org/wiki/MiB" target="_blank">MiB</A>