Package: escape Version: 2.2.3 Command: rm -rf escape.buildbin-libdir && mkdir escape.buildbin-libdir && /Users/biocbuild/BBS/utils/build-universal.sh escape_2.2.3.tar.gz /Library/Frameworks/R.framework/Resources/bin/R escape.buildbin-libdir StartedAt: 2025-02-05 15:47:43 -0500 (Wed, 05 Feb 2025) EndedAt: 2025-02-05 15:48:38 -0500 (Wed, 05 Feb 2025) EllapsedTime: 55.1 seconds RetCode: 0 Status: OK PackageFile: escape_2.2.3.tgz PackageFileSize: 1.757 MiB