Package: escape Version: 2.2.3 Command: /Library/Frameworks/R.framework/Resources/bin/R CMD build --keep-empty-dirs --no-resave-data escape StartedAt: 2025-02-03 18:51:10 -0500 (Mon, 03 Feb 2025) EndedAt: 2025-02-03 18:53:55 -0500 (Mon, 03 Feb 2025) EllapsedTime: 165.3 seconds RetCode: 0 Status: OK PackageFile: escape_2.2.3.tar.gz PackageFileSize: 4.003 MiB