Package: escape Version: 2.2.3 Command: /Library/Frameworks/R.framework/Resources/bin/R CMD INSTALL escape StartedAt: 2025-02-03 16:36:09 -0500 (Mon, 03 Feb 2025) EndedAt: 2025-02-03 16:37:38 -0500 (Mon, 03 Feb 2025) EllapsedTime: 89.0 seconds RetCode: 0 Status: OK