Package: escape Version: 2.2.3 Command: /home/biocbuild/bbs-3.20-bioc/R/bin/R CMD INSTALL escape StartedAt: 2025-02-03 16:01:14 -0500 (Mon, 03 Feb 2025) EndedAt: 2025-02-03 16:02:01 -0500 (Mon, 03 Feb 2025) EllapsedTime: 47.0 seconds RetCode: 0 Status: OK