Package: escape Version: 2.2.3 Command: chmod a+r escape -R && F:\biocbuild\bbs-3.20-bioc\R\bin\R.exe CMD build --keep-empty-dirs --no-resave-data escape StartedAt: 2025-02-03 19:01:11 -0500 (Mon, 03 Feb 2025) EndedAt: 2025-02-03 19:03:50 -0500 (Mon, 03 Feb 2025) EllapsedTime: 159.3 seconds RetCode: 0 Status: OK PackageFile: escape_2.2.3.tar.gz PackageFileSize: 3.089 MiB