Package: escape Version: 2.2.3 Command: F:\biocbuild\bbs-3.20-bioc\R\bin\R.exe CMD INSTALL escape StartedAt: 2025-02-03 16:38:18 -0500 (Mon, 03 Feb 2025) EndedAt: 2025-02-03 16:39:17 -0500 (Mon, 03 Feb 2025) EllapsedTime: 59.1 seconds RetCode: 0 Status: OK