Package: escape Version: 2.2.3 Command: /home/biocbuild/R/R/bin/R CMD build --keep-empty-dirs --no-resave-data escape StartedAt: 2025-02-03 23:30:46 -0000 (Mon, 03 Feb 2025) EndedAt: 2025-02-03 23:32:27 -0000 (Mon, 03 Feb 2025) EllapsedTime: 101.0 seconds RetCode: 0 Status: OK PackageFile: escape_2.2.3.tar.gz PackageFileSize: 3.216 MiB