Package: escheR Version: 1.6.0 Command: /Library/Frameworks/R.framework/Resources/bin/R CMD build --keep-empty-dirs --no-resave-data escheR StartedAt: 2025-02-03 23:24:18 -0500 (Mon, 03 Feb 2025) EndedAt: 2025-02-03 23:27:15 -0500 (Mon, 03 Feb 2025) EllapsedTime: 177.2 seconds RetCode: 0 Status: OK PackageFile: escheR_1.6.0.tar.gz PackageFileSize: 3.545 MiB