Package: escheR Version: 1.6.0 Command: /Library/Frameworks/R.framework/Resources/bin/R CMD check --install=check:escheR.install-out.txt --library=/Library/Frameworks/R.framework/Resources/library --no-vignettes --timings escheR_1.6.0.tar.gz StartedAt: 2025-02-04 19:26:43 -0500 (Tue, 04 Feb 2025) EndedAt: 2025-02-04 19:30:30 -0500 (Tue, 04 Feb 2025) EllapsedTime: 226.5 seconds RetCode: 0 Status: OK CheckDir: escheR.Rcheck Warnings: 0