Package: escheR
Version: 1.6.0
Command: /home/biocbuild/R/R/bin/R CMD check --install=check:escheR.install-out.txt --library=/home/biocbuild/R/R/site-library --no-vignettes --timings escheR_1.6.0.tar.gz
StartedAt: 2024-11-20 07:43:16 -0000 (Wed, 20 Nov 2024)
EndedAt: 2024-11-20 07:47:37 -0000 (Wed, 20 Nov 2024)
EllapsedTime: 261.4 seconds
RetCode: 0
Status: OK
CheckDir: escheR.Rcheck
Warnings: 0