Package: escheR Version: 1.6.0 Command: /Library/Frameworks/R.framework/Resources/bin/R CMD INSTALL escheR StartedAt: 2025-02-03 16:33:25 -0500 (Mon, 03 Feb 2025) EndedAt: 2025-02-03 16:34:19 -0500 (Mon, 03 Feb 2025) EllapsedTime: 53.4 seconds RetCode: 0 Status: OK