Package: escheR Version: 1.6.0 Command: F:\biocbuild\bbs-3.20-bioc\R\bin\R.exe CMD INSTALL escheR StartedAt: 2025-02-03 17:09:43 -0500 (Mon, 03 Feb 2025) EndedAt: 2025-02-03 17:10:14 -0500 (Mon, 03 Feb 2025) EllapsedTime: 31.1 seconds RetCode: 0 Status: OK