Package: escheR Version: 1.6.0 Command: /home/biocbuild/R/R/bin/R CMD check --install=check:escheR.install-out.txt --library=/home/biocbuild/R/R/site-library --no-vignettes --timings escheR_1.6.0.tar.gz StartedAt: 2025-02-04 06:52:16 -0000 (Tue, 04 Feb 2025) EndedAt: 2025-02-04 06:56:17 -0000 (Tue, 04 Feb 2025) EllapsedTime: 240.4 seconds RetCode: 0 Status: OK CheckDir: escheR.Rcheck Warnings: 0