Package: escheR Version: 1.6.0 Command: /home/biocbuild/R/R/bin/R CMD INSTALL escheR StartedAt: 2025-02-03 21:14:12 -0000 (Mon, 03 Feb 2025) EndedAt: 2025-02-03 21:14:44 -0000 (Mon, 03 Feb 2025) EllapsedTime: 32.0 seconds RetCode: 0 Status: OK