Package: esetVis Version: 1.32.0 Command: /Library/Frameworks/R.framework/Resources/bin/R CMD build --keep-empty-dirs --no-resave-data esetVis StartedAt: 2025-02-03 23:25:07 -0500 (Mon, 03 Feb 2025) EndedAt: 2025-02-03 23:27:03 -0500 (Mon, 03 Feb 2025) EllapsedTime: 115.8 seconds RetCode: 0 Status: OK PackageFile: esetVis_1.32.0.tar.gz PackageFileSize: 4.333 MiB