Package: esetVis Version: 1.32.0 Command: chmod a+r esetVis -R && F:\biocbuild\bbs-3.20-bioc\R\bin\R.exe CMD build --keep-empty-dirs --no-resave-data esetVis StartedAt: 2025-02-17 18:47:49 -0500 (Mon, 17 Feb 2025) EndedAt: 2025-02-17 18:53:31 -0500 (Mon, 17 Feb 2025) EllapsedTime: 342.2 seconds RetCode: 0 Status: OK PackageFile: esetVis_1.32.0.tar.gz PackageFileSize: 2.485 <A href="http://en.wikipedia.org/wiki/MiB" target="_blank">MiB</A>