Package: esetVis Version: 1.32.0 Command: /home/biocbuild/R/R/bin/R CMD build --keep-empty-dirs --no-resave-data esetVis StartedAt: 2025-02-03 23:31:05 -0000 (Mon, 03 Feb 2025) EndedAt: 2025-02-03 23:34:06 -0000 (Mon, 03 Feb 2025) EllapsedTime: 181.1 seconds RetCode: 0 Status: OK PackageFile: esetVis_1.32.0.tar.gz PackageFileSize: 3.012 MiB