Package: esetVis Version: 1.32.0 Command: /home/biocbuild/R/R/bin/R CMD INSTALL esetVis StartedAt: 2025-02-03 20:38:06 -0000 (Mon, 03 Feb 2025) EndedAt: 2025-02-03 20:38:24 -0000 (Mon, 03 Feb 2025) EllapsedTime: 18.3 seconds RetCode: 0 Status: OK