Package: esetVis Version: 1.32.0 Command: /home/biocbuild/bbs-3.20-bioc/R/bin/R CMD check --install=check:esetVis.install-out.txt --library=/home/biocbuild/bbs-3.20-bioc/R/site-library --timings esetVis_1.32.0.tar.gz StartedAt: 2024-11-20 02:44:13 -0500 (Wed, 20 Nov 2024) EndedAt: 2024-11-20 02:48:31 -0500 (Wed, 20 Nov 2024) EllapsedTime: 258.7 seconds RetCode: 0 Status: OK CheckDir: esetVis.Rcheck Warnings: 0