Package: eudysbiome Version: 1.36.0 Command: /Library/Frameworks/R.framework/Resources/bin/R CMD check --install=check:eudysbiome.install-out.txt --library=/Library/Frameworks/R.framework/Resources/library --no-vignettes --timings eudysbiome_1.36.0.tar.gz StartedAt: 2025-02-04 19:29:30 -0500 (Tue, 04 Feb 2025) EndedAt: 2025-02-04 19:31:07 -0500 (Tue, 04 Feb 2025) EllapsedTime: 97.0 seconds RetCode: 0 Status: OK CheckDir: eudysbiome.Rcheck Warnings: 0