Package: eudysbiome Version: 1.36.0 Command: /Library/Frameworks/R.framework/Resources/bin/R CMD INSTALL eudysbiome StartedAt: 2025-02-03 15:55:57 -0500 (Mon, 03 Feb 2025) EndedAt: 2025-02-03 15:56:11 -0500 (Mon, 03 Feb 2025) EllapsedTime: 14.6 seconds RetCode: 0 Status: OK