Package: eudysbiome Version: 1.36.0 Command: /Library/Frameworks/R.framework/Resources/bin/R CMD build --keep-empty-dirs --no-resave-data eudysbiome StartedAt: 2025-02-03 18:51:51 -0500 (Mon, 03 Feb 2025) EndedAt: 2025-02-03 18:52:33 -0500 (Mon, 03 Feb 2025) EllapsedTime: 42.3 seconds RetCode: 0 Status: OK PackageFile: eudysbiome_1.36.0.tar.gz PackageFileSize: 4.377 MiB