Package: eudysbiome Version: 1.36.0 Command: chmod a+r eudysbiome -R && F:\biocbuild\bbs-3.20-bioc\R\bin\R.exe CMD build --keep-empty-dirs --no-resave-data eudysbiome StartedAt: 2025-02-03 19:02:04 -0500 (Mon, 03 Feb 2025) EndedAt: 2025-02-03 19:02:27 -0500 (Mon, 03 Feb 2025) EllapsedTime: 23.1 seconds RetCode: 0 Status: OK PackageFile: eudysbiome_1.36.0.tar.gz PackageFileSize: 4.223 MiB