Package: evaluomeR Version: 1.22.0 Command: /home/biocbuild/R/R/bin/R CMD check --install=check:evaluomeR.install-out.txt --library=/home/biocbuild/R/R/site-library --no-vignettes --timings evaluomeR_1.22.0.tar.gz StartedAt: 2024-11-20 07:44:24 -0000 (Wed, 20 Nov 2024) EndedAt: 2024-11-20 07:51:01 -0000 (Wed, 20 Nov 2024) EllapsedTime: 396.8 seconds RetCode: 0 Status: WARNINGS CheckDir: evaluomeR.Rcheck Warnings: 3