Package: evaluomeR Version: 1.22.0 Command: rm -rf evaluomeR.buildbin-libdir && mkdir evaluomeR.buildbin-libdir && /Users/biocbuild/BBS/utils/build-universal.sh evaluomeR_1.22.0.tar.gz /Library/Frameworks/R.framework/Resources/bin/R evaluomeR.buildbin-libdir StartedAt: 2025-02-11 13:11:22 -0500 (Tue, 11 Feb 2025) EndedAt: 2025-02-11 13:12:53 -0500 (Tue, 11 Feb 2025) EllapsedTime: 90.8 seconds RetCode: 0 Status: OK PackageFile: evaluomeR_1.22.0.tgz PackageFileSize: 775.8 KiB