Package: evaluomeR Version: 1.22.0 Command: /Library/Frameworks/R.framework/Resources/bin/R CMD build --keep-empty-dirs --no-resave-data evaluomeR StartedAt: 2025-02-03 18:52:28 -0500 (Mon, 03 Feb 2025) EndedAt: 2025-02-03 18:54:48 -0500 (Mon, 03 Feb 2025) EllapsedTime: 140.4 seconds RetCode: 0 Status: OK PackageFile: evaluomeR_1.22.0.tar.gz PackageFileSize: 1.044 MiB