Package: evaluomeR Version: 1.22.0 Command: /Library/Frameworks/R.framework/Resources/bin/R CMD INSTALL evaluomeR StartedAt: 2025-02-03 16:33:19 -0500 (Mon, 03 Feb 2025) EndedAt: 2025-02-03 16:34:42 -0500 (Mon, 03 Feb 2025) EllapsedTime: 83.1 seconds RetCode: 0 Status: OK