Package: evaluomeR Version: 1.22.0 Command: rm -rf evaluomeR.buildbin-libdir && mkdir evaluomeR.buildbin-libdir && F:\biocbuild\bbs-3.20-bioc\R\bin\R.exe CMD INSTALL --build --library=evaluomeR.buildbin-libdir evaluomeR_1.22.0.tar.gz StartedAt: 2025-02-04 08:28:32 -0500 (Tue, 04 Feb 2025) EndedAt: 2025-02-04 08:29:23 -0500 (Tue, 04 Feb 2025) EllapsedTime: 51.1 seconds RetCode: 0 Status: OK PackageFile: evaluomeR_1.22.0.zip PackageFileSize: 581.9 KiB