Package: evaluomeR Version: 1.22.0 Command: chmod a+r evaluomeR -R && F:\biocbuild\bbs-3.20-bioc\R\bin\R.exe CMD build --keep-empty-dirs --no-resave-data evaluomeR StartedAt: 2025-02-03 19:02:05 -0500 (Mon, 03 Feb 2025) EndedAt: 2025-02-03 19:03:46 -0500 (Mon, 03 Feb 2025) EllapsedTime: 100.3 seconds RetCode: 0 Status: OK PackageFile: evaluomeR_1.22.0.tar.gz PackageFileSize: 871.1 KiB