Package: evaluomeR Version: 1.22.0 Command: F:\biocbuild\bbs-3.20-bioc\R\bin\R.exe CMD INSTALL evaluomeR StartedAt: 2025-02-03 16:35:24 -0500 (Mon, 03 Feb 2025) EndedAt: 2025-02-03 16:36:18 -0500 (Mon, 03 Feb 2025) EllapsedTime: 53.6 seconds RetCode: 0 Status: OK