Package: evaluomeR Version: 1.22.0 Command: /home/biocbuild/R/R/bin/R CMD build --keep-empty-dirs --no-resave-data evaluomeR StartedAt: 2025-02-10 23:20:41 -0000 (Mon, 10 Feb 2025) EndedAt: 2025-02-10 23:22:03 -0000 (Mon, 10 Feb 2025) EllapsedTime: 81.0 seconds RetCode: 0 Status: OK PackageFile: evaluomeR_1.22.0.tar.gz PackageFileSize: 942.5 KiB