Package: evaluomeR Version: 1.22.0 Command: /home/biocbuild/R/R/bin/R CMD INSTALL evaluomeR StartedAt: 2025-02-03 21:14:07 -0000 (Mon, 03 Feb 2025) EndedAt: 2025-02-03 21:14:55 -0000 (Mon, 03 Feb 2025) EllapsedTime: 48.1 seconds RetCode: 0 Status: OK