Package: fCCAC Version: 1.32.0 Command: /home/biocbuild/R/R/bin/R CMD check --install=check:fCCAC.install-out.txt --library=/home/biocbuild/R/R/site-library --no-vignettes --timings fCCAC_1.32.0.tar.gz StartedAt: 2025-02-04 06:58:36 -0000 (Tue, 04 Feb 2025) EndedAt: 2025-02-04 07:04:05 -0000 (Tue, 04 Feb 2025) EllapsedTime: 328.4 seconds RetCode: 0 Status: OK CheckDir: fCCAC.Rcheck Warnings: 0