Package: fCCAC
Version: 1.32.0
Command: /home/biocbuild/R/R/bin/R CMD INSTALL fCCAC
StartedAt: 2025-02-17 21:19:33 -0000 (Mon, 17 Feb 2025)
EndedAt: 2025-02-17 21:20:18 -0000 (Mon, 17 Feb 2025)
EllapsedTime: 45.3 seconds
RetCode: 0
Status: OK