Package: fabia Version: 2.52.0 Command: rm -rf fabia.buildbin-libdir && mkdir fabia.buildbin-libdir && /Users/biocbuild/BBS/utils/build-universal.sh fabia_2.52.0.tar.gz /Library/Frameworks/R.framework/Resources/bin/R fabia.buildbin-libdir StartedAt: 2025-02-04 12:55:59 -0500 (Tue, 04 Feb 2025) EndedAt: 2025-02-04 12:56:25 -0500 (Tue, 04 Feb 2025) EllapsedTime: 26.0 seconds RetCode: 0 Status: OK PackageFile: fabia_2.52.0.tgz PackageFileSize: 1.146 MiB