Package: fabia
Version: 2.51.0
Command: rm -rf fabia.buildbin-libdir && mkdir fabia.buildbin-libdir && F:\biocbuild\bbs-3.20-bioc\R\bin\R.exe CMD INSTALL --build --library=fabia.buildbin-libdir fabia_2.51.0.tar.gz
StartedAt: 2024-06-10 13:35:24 -0400 (Mon, 10 Jun 2024)
EndedAt: 2024-06-10 13:36:16 -0400 (Mon, 10 Jun 2024)
EllapsedTime: 52.2 seconds
RetCode: 0
Status: OK
PackageFile: fabia_2.51.0.zip
PackageFileSize: 1.107 <A href="http://en.wikipedia.org/wiki/MiB" target="_blank">MiB</A>