Package: factDesign
Version: 1.82.0
Command: rm -rf factDesign.buildbin-libdir && mkdir factDesign.buildbin-libdir && /Users/biocbuild/BBS/utils/build-universal.sh factDesign_1.82.0.tar.gz /Library/Frameworks/R.framework/Resources/bin/R factDesign.buildbin-libdir
StartedAt: 2024-11-20 04:26:26 -0500 (Wed, 20 Nov 2024)
EndedAt: 2024-11-20 04:26:33 -0500 (Wed, 20 Nov 2024)
EllapsedTime: 6.6 seconds
RetCode: 0
Status: OK
PackageFile: factDesign_1.82.0.tgz
PackageFileSize: 231.5 <A href="http://en.wikipedia.org/wiki/KiB" target="_blank">KiB</A>