Package: factR Version: 1.8.0 Command: rm -rf factR.buildbin-libdir && mkdir factR.buildbin-libdir && /Users/biocbuild/BBS/utils/build-universal.sh factR_1.8.0.tar.gz /Library/Frameworks/R.framework/Resources/bin/R factR.buildbin-libdir StartedAt: 2025-02-11 13:12:16 -0500 (Tue, 11 Feb 2025) EndedAt: 2025-02-11 13:12:48 -0500 (Tue, 11 Feb 2025) EllapsedTime: 31.9 seconds RetCode: 0 Status: OK PackageFile: factR_1.8.0.tgz PackageFileSize: 1.928 MiB