Package: factR Version: 1.8.0 Command: /Library/Frameworks/R.framework/Resources/bin/R CMD check --install=check:factR.install-out.txt --library=/Library/Frameworks/R.framework/Resources/library --no-vignettes --timings factR_1.8.0.tar.gz StartedAt: 2025-02-11 03:23:36 -0500 (Tue, 11 Feb 2025) EndedAt: 2025-02-11 03:28:21 -0500 (Tue, 11 Feb 2025) EllapsedTime: 285.9 seconds RetCode: 0 Status: OK CheckDir: factR.Rcheck Warnings: 0