Package: factR Version: 1.8.0 Command: /home/biocbuild/bbs-3.20-bioc/R/bin/R CMD build --keep-empty-dirs --no-resave-data --md5 factR StartedAt: 2025-02-03 17:24:06 -0500 (Mon, 03 Feb 2025) EndedAt: 2025-02-03 17:26:33 -0500 (Mon, 03 Feb 2025) EllapsedTime: 147.2 seconds RetCode: 0 Status: OK PackageFile: factR_1.8.0.tar.gz PackageFileSize: 1.793 MiB