Package: factR Version: 1.8.0 Command: /home/biocbuild/bbs-3.20-bioc/R/bin/R CMD INSTALL factR StartedAt: 2025-02-03 15:31:08 -0500 (Mon, 03 Feb 2025) EndedAt: 2025-02-03 15:31:17 -0500 (Mon, 03 Feb 2025) EllapsedTime: 9.4 seconds RetCode: 0 Status: OK