Package: faers Version: 1.2.0 Command: /Library/Frameworks/R.framework/Resources/bin/R CMD check --install=check:faers.install-out.txt --library=/Library/Frameworks/R.framework/Resources/library --no-vignettes --timings faers_1.2.0.tar.gz StartedAt: 2025-01-31 19:10:04 -0500 (Fri, 31 Jan 2025) EndedAt: 2025-01-31 19:11:01 -0500 (Fri, 31 Jan 2025) EllapsedTime: 56.6 seconds RetCode: 0 Status: OK CheckDir: faers.Rcheck Warnings: 0