Package: faers Version: 1.2.0 Command: /Library/Frameworks/R.framework/Resources/bin/R CMD INSTALL faers StartedAt: 2025-01-30 18:00:14 -0500 (Thu, 30 Jan 2025) EndedAt: 2025-01-30 18:00:20 -0500 (Thu, 30 Jan 2025) EllapsedTime: 6.0 seconds RetCode: 0 Status: OK