Package: faers Version: 1.2.0 Command: /home/biocbuild/R/R/bin/R CMD check --install=check:faers.install-out.txt --library=/home/biocbuild/R/R/site-library --no-vignettes --timings faers_1.2.0.tar.gz StartedAt: 2024-11-20 07:48:07 -0000 (Wed, 20 Nov 2024) EndedAt: 2024-11-20 07:49:09 -0000 (Wed, 20 Nov 2024) EllapsedTime: 62.1 seconds RetCode: 0 Status: OK CheckDir: faers.Rcheck Warnings: 0