Package: faers Version: 1.2.0 Command: rm -rf faers.buildbin-libdir && mkdir faers.buildbin-libdir && /Users/biocbuild/BBS/utils/build-universal.sh faers_1.2.0.tar.gz /Library/Frameworks/R.framework/Resources/bin/R faers.buildbin-libdir StartedAt: 2024-11-20 04:26:33 -0500 (Wed, 20 Nov 2024) EndedAt: 2024-11-20 04:26:44 -0500 (Wed, 20 Nov 2024) EllapsedTime: 11.1 seconds RetCode: 0 Status: OK PackageFile: faers_1.2.0.tgz PackageFileSize: 3.214 MiB