Package: faers Version: 1.2.0 Command: /Library/Frameworks/R.framework/Resources/bin/R CMD build --keep-empty-dirs --no-resave-data faers StartedAt: 2025-01-30 19:05:24 -0500 (Thu, 30 Jan 2025) EndedAt: 2025-01-30 19:06:27 -0500 (Thu, 30 Jan 2025) EllapsedTime: 62.9 seconds RetCode: 0 Status: OK PackageFile: faers_1.2.0.tar.gz PackageFileSize: 2.889 MiB