Package: faers Version: 1.2.0 Command: /home/biocbuild/bbs-3.20-bioc/R/bin/R CMD check --install=check:faers.install-out.txt --library=/home/biocbuild/bbs-3.20-bioc/R/site-library --timings faers_1.2.0.tar.gz StartedAt: 2025-01-30 22:10:21 -0500 (Thu, 30 Jan 2025) EndedAt: 2025-01-30 22:11:34 -0500 (Thu, 30 Jan 2025) EllapsedTime: 73.1 seconds RetCode: 0 Status: OK CheckDir: faers.Rcheck Warnings: 0