Package: faers Version: 1.2.0 Command: rm -rf faers.buildbin-libdir && mkdir faers.buildbin-libdir && F:\biocbuild\bbs-3.20-bioc\R\bin\R.exe CMD INSTALL --build --library=faers.buildbin-libdir faers_1.2.0.tar.gz StartedAt: 2025-01-31 08:38:44 -0500 (Fri, 31 Jan 2025) EndedAt: 2025-01-31 08:39:27 -0500 (Fri, 31 Jan 2025) EllapsedTime: 43.5 seconds RetCode: 0 Status: OK PackageFile: faers_1.2.0.zip PackageFileSize: 3.215 MiB