Package: faers Version: 1.2.0 Command: chmod a+r faers -R && F:\biocbuild\bbs-3.20-bioc\R\bin\R.exe CMD build --keep-empty-dirs --no-resave-data faers StartedAt: 2025-01-30 18:49:33 -0500 (Thu, 30 Jan 2025) EndedAt: 2025-01-30 18:50:38 -0500 (Thu, 30 Jan 2025) EllapsedTime: 65.5 seconds RetCode: 0 Status: OK PackageFile: faers_1.2.0.tar.gz PackageFileSize: 2.889 MiB